BEGIN:VCALENDAR
VERSION:2.0
PRODID:-//Tukios.com/
BEGIN:VEVENT
UID:f47b0753-2f18-4fe1-8dc9-f3f0aa91cf4e@www.lynchfamilyfuneralhome.com
DTSTAMP:20260420T233459Z
DTSTART:20260424T130000Z
DTEND:20260424T140000Z
SUMMARY:Visitation
DESCRIPTION:
URL:https://www.lynchfamilyfuneralhome.com/obituaries/mary-courtright
LOCATION:Lynch Family Funeral Home 124 E. High St.  London OH 43140
GEO:39.8881948;-83.4451197
END:VEVENT
END:VCALENDAR